BEGIN:VCALENDAR
VERSION:2.0
PRODID:-//wp-events-plugin.com//7.2.3.1//EN
TZID:Europe/Paris
X-WR-TIMEZONE:Europe/Paris
BEGIN:VEVENT
UID:104009@l-agenda.ch
DTSTART;TZID=Europe/Paris:20240321T190000
DTEND;TZID=Europe/Paris:20240321T190000
DTSTAMP:20240114T214423Z
URL:https://www.l-agenda.ch/evenements/comme-a-lopera/
SUMMARY:Comme à l'opéra
DESCRIPTION:Deux concerts de musique contemporaine: partition graphique et 
 humour lyrique
CATEGORIES:Classique,Musique contemporaine
LOCATION:Théâtre 2.21\, Rue de l'Industrie 10\, Lausanne\, VD\, 1005\, La
 usanne\, Suisse
GEO:46.526319;6.639307
X-APPLE-STRUCTURED-LOCATION;VALUE=URI;X-ADDRESS=Rue de l'Industrie 10\, Lau
 sanne\, VD\, 1005\, Lausanne\, Suisse;X-APPLE-RADIUS=100;X-TITLE=Théâtre
  2.21:geo:46.526319,6.639307
END:VEVENT
BEGIN:VTIMEZONE
TZID:Europe/Paris
X-LIC-LOCATION:Europe/Paris
BEGIN:STANDARD
DTSTART:20231029T020000
TZOFFSETFROM:+0200
TZOFFSETTO:+0100
TZNAME:CET
END:STANDARD
END:VTIMEZONE
END:VCALENDAR