BEGIN:VCALENDAR
VERSION:2.0
PRODID:-//wp-events-plugin.com//7.2.3.1//EN
TZID:Europe/Paris
X-WR-TIMEZONE:Europe/Paris
BEGIN:VEVENT
UID:118033@l-agenda.ch
DTSTART;TZID=Europe/Paris:20251018T110000
DTEND;TZID=Europe/Paris:20251018T190000
DTSTAMP:20251013T090409Z
URL:https://www.l-agenda.ch/evenements/comet-comic-market/
SUMMARY:COMET - Comic Market
DESCRIPTION:Journée  dédiée à la bande dessinée en auto & micro-édit
 ion indépendante
ATTACH;FMTTYPE=image/jpeg:https://www.l-agenda.ch/wp-content/uploads/2025/
 10/COMET-ComicMarket2025_poster.png
CATEGORIES:Festival,Conférence | Rencontre,Exposition
 temporaire,Littérature | Conte | Lecture
LOCATION:Pyxis\, Place de la Cathédrale 6\, Lausanne1\, VD\, 1005\, Lausan
 ne\, Suisse
GEO:46.521891;6.635356
X-APPLE-STRUCTURED-LOCATION;VALUE=URI;X-ADDRESS=Place de la Cathédrale 6\,
  Lausanne1\, VD\, 1005\, Lausanne\, Suisse;X-APPLE-RADIUS=100;X-TITLE=Pyxi
 s:geo:46.521891,6.635356
END:VEVENT
BEGIN:VTIMEZONE
TZID:Europe/Paris
X-LIC-LOCATION:Europe/Paris
BEGIN:DAYLIGHT
DTSTART:20250330T030000
TZOFFSETFROM:+0100
TZOFFSETTO:+0200
TZNAME:CEST
END:DAYLIGHT
END:VTIMEZONE
END:VCALENDAR