BEGIN:VCALENDAR
VERSION:2.0
PRODID:-//wp-events-plugin.com//7.2.3.1//EN
TZID:Europe/Paris
X-WR-TIMEZONE:Europe/Paris
BEGIN:VEVENT
UID:106482@l-agenda.ch
DTSTART;TZID=Europe/Paris:20240609T170000
DTEND;TZID=Europe/Paris:20240609T170000
DTSTAMP:20240327T124230Z
URL:https://www.l-agenda.ch/evenements/choeur-du-cern/
SUMMARY:Chœur du Cern
DESCRIPTION:Requiem de Verdi
ATTACH;FMTTYPE=image/jpeg:https://www.l-agenda.ch/wp-content/uploads/2024/
 03/cat-classical-1.jpg
CATEGORIES:Classique,Opéra | Lyrique | Voix
LOCATION:Église de Compesières\, Route de Gugny\, La Croix-de-Rozon\, GE\
 , 1257\, Genève\, Suisse
GEO:46.153056;6.112938
X-APPLE-STRUCTURED-LOCATION;VALUE=URI;X-ADDRESS=Route de Gugny\, La Croix-d
 e-Rozon\, GE\, 1257\, Genève\, Suisse;X-APPLE-RADIUS=100;X-TITLE=Église 
 de Compesières:geo:46.153056,6.112938
END:VEVENT
BEGIN:VTIMEZONE
TZID:Europe/Paris
X-LIC-LOCATION:Europe/Paris
BEGIN:DAYLIGHT
DTSTART:20240331T030000
TZOFFSETFROM:+0100
TZOFFSETTO:+0200
TZNAME:CEST
END:DAYLIGHT
END:VTIMEZONE
END:VCALENDAR