BEGIN:VCALENDAR
VERSION:2.0
PRODID:-//wp-events-plugin.com//7.2.3.1//EN
TZID:Europe/Paris
X-WR-TIMEZONE:Europe/Paris
BEGIN:VEVENT
UID:115145@l-agenda.ch
DTSTART;TZID=Europe/Paris:20260509T200000
DTEND;TZID=Europe/Paris:20260509T200000
DTSTAMP:20260410T215305Z
URL:https://www.l-agenda.ch/evenements/chapelle-vocale-de-lausanne-ensembl
 e-baroque-du-leman/
SUMMARY:Chapelle Vocale de Lausanne et Ensemble Baroque du Léman
DESCRIPTION:J.S. Bach\, Messe en Si mineur BWV 23
ATTACH;FMTTYPE=image/jpeg:https://www.l-agenda.ch/wp-content/uploads/2026/
 03/Chapelle-Vocale-de-Lausanne.avif
CATEGORIES:Classique,Opéra | Lyrique | Voix,Orchestre | Ensemble |
 Instrument | Chambre
LOCATION:Temple de Saint-Gervais\, Rue Terreaux-du-Temple 12\, Genève\, GE
 \, 1201\, Genève\, Suisse
GEO:46.206505;6.141025
X-APPLE-STRUCTURED-LOCATION;VALUE=URI;X-ADDRESS=Rue Terreaux-du-Temple 12\,
  Genève\, GE\, 1201\, Genève\, Suisse;X-APPLE-RADIUS=100;X-TITLE=Temple 
 de Saint-Gervais:geo:46.206505,6.141025
END:VEVENT
BEGIN:VTIMEZONE
TZID:Europe/Paris
X-LIC-LOCATION:Europe/Paris
BEGIN:DAYLIGHT
DTSTART:20260329T030000
TZOFFSETFROM:+0100
TZOFFSETTO:+0200
TZNAME:CEST
END:DAYLIGHT
END:VTIMEZONE
END:VCALENDAR