BEGIN:VCALENDAR
VERSION:2.0
PRODID:-//wp-events-plugin.com//7.2.3.1//EN
TZID:Europe/Paris
X-WR-TIMEZONE:Europe/Paris
BEGIN:VEVENT
UID:118196@l-agenda.ch
DTSTART;TZID=Europe/Paris:20260506T200000
DTEND;TZID=Europe/Paris:20260506T200000
DTSTAMP:20251019T203906Z
URL:https://www.l-agenda.ch/evenements/cest-si-simple-lamour-3/
SUMMARY:C'est si simple l'amour
DESCRIPTION:Pièce de Lars Norén sur la violence intime et sociétale
ATTACH;FMTTYPE=image/jpeg:https://www.l-agenda.ch/wp-content/uploads/2025/
 10/Cest-si-simple-lamour.jpg
CATEGORIES:Théâtre,Tragédie | Drame
LOCATION:Équilibre\, Place Jean Tinguely 1\, Fribourg\, FR\, 1700\, Sarine
 \, Suisse
GEO:46.803614;7.153359
X-APPLE-STRUCTURED-LOCATION;VALUE=URI;X-ADDRESS=Place Jean Tinguely 1\, Fri
 bourg\, FR\, 1700\, Sarine\, Suisse;X-APPLE-RADIUS=100;X-TITLE=Équilibre:
 geo:46.803614,7.153359
END:VEVENT
BEGIN:VTIMEZONE
TZID:Europe/Paris
X-LIC-LOCATION:Europe/Paris
BEGIN:DAYLIGHT
DTSTART:20260329T030000
TZOFFSETFROM:+0100
TZOFFSETTO:+0200
TZNAME:CEST
END:DAYLIGHT
END:VTIMEZONE
END:VCALENDAR