BEGIN:VCALENDAR
VERSION:2.0
PRODID:-//wp-events-plugin.com//7.2.3.1//EN
TZID:Europe/Paris
X-WR-TIMEZONE:Europe/Paris
BEGIN:VEVENT
UID:111174@l-agenda.ch
DTSTART;TZID=Europe/Paris;VALUE=DATE:20260421
DTEND;TZID=Europe/Paris;VALUE=DATE:20260426
DTSTAMP:20260421T143308Z
URL:https://www.l-agenda.ch/evenements/cest-deja-demain-14/
SUMMARY:C'est déjà demain.14
DESCRIPTION:Premières créations de jeunes artistes de la scène romande
ATTACH;FMTTYPE=image/jpeg:https://www.l-agenda.ch/wp-content/uploads/2024/
 11/Cest-deja-demain.jpg
CATEGORIES:17-2026,Danse,Festival,Théâtre
LOCATION:Théâtre du Loup\, 10\, chemin de la Gravière\, Genève\, 1205\,
  Suisse
GEO:46.197231;6.130881
X-APPLE-STRUCTURED-LOCATION;VALUE=URI;X-ADDRESS=10\, chemin de la Gravière
 \, Genève\, 1205\, Suisse;X-APPLE-RADIUS=100;X-TITLE=Théâtre du Loup:ge
 o:46.197231,6.130881
END:VEVENT
BEGIN:VTIMEZONE
TZID:Europe/Paris
X-LIC-LOCATION:Europe/Paris
BEGIN:DAYLIGHT
DTSTART:20260329T030000
TZOFFSETFROM:+0100
TZOFFSETTO:+0200
TZNAME:CEST
END:DAYLIGHT
END:VTIMEZONE
END:VCALENDAR