BEGIN:VCALENDAR
VERSION:2.0
PRODID:-//wp-events-plugin.com//7.2.3.1//EN
TZID:Europe/Paris
X-WR-TIMEZONE:Europe/Paris
BEGIN:VEVENT
UID:108147@l-agenda.ch
DTSTART;TZID=Europe/Paris:20250307T200000
DTEND;TZID=Europe/Paris:20250307T200000
DTSTAMP:20250303T121431Z
URL:https://www.l-agenda.ch/evenements/cest-dans-votre-tete-mademoiselle-7
 /
SUMMARY:C'est dans votre tête\, Mademoiselle!
DESCRIPTION:Giliane Bussy\, seule en scène sur l'endométriose
ATTACH;FMTTYPE=image/jpeg:https://www.l-agenda.ch/wp-content/uploads/2024/
 03/EG-2023-2024_114-e1722427058836.png
CATEGORIES:Théâtre
LOCATION:Le Bateau-Lune\, Chemin de la Chapelle 10\, Cheseaux\, VD\, 1033\,
  Lausanne\, Suisse
GEO:46.580105;6.60475
X-APPLE-STRUCTURED-LOCATION;VALUE=URI;X-ADDRESS=Chemin de la Chapelle 10\, 
 Cheseaux\, VD\, 1033\, Lausanne\, Suisse;X-APPLE-RADIUS=100;X-TITLE=Le Bat
 eau-Lune:geo:46.580105,6.60475
END:VEVENT
BEGIN:VTIMEZONE
TZID:Europe/Paris
X-LIC-LOCATION:Europe/Paris
BEGIN:STANDARD
DTSTART:20241027T020000
TZOFFSETFROM:+0200
TZOFFSETTO:+0100
TZNAME:CET
END:STANDARD
END:VTIMEZONE
END:VCALENDAR