BEGIN:VCALENDAR
VERSION:2.0
PRODID:-//wp-events-plugin.com//7.2.3.1//EN
TZID:Europe/Paris
X-WR-TIMEZONE:Europe/Paris
BEGIN:VEVENT
UID:108144@l-agenda.ch
DTSTART;TZID=Europe/Paris:20240928T190000
DTEND;TZID=Europe/Paris:20240928T190000
DTSTAMP:20240904T124609Z
URL:https://www.l-agenda.ch/evenements/cest-dans-votre-tete-mademoiselle-4
 /
SUMMARY:C'est dans votre tête\, Mademoiselle!
DESCRIPTION:Giliane Bussy\, seule en scène sur l'endométriose
ATTACH;FMTTYPE=image/jpeg:https://www.l-agenda.ch/wp-content/uploads/2024/
 03/EG-2023-2024_114-e1722427058836.png
CATEGORIES:Théâtre
LOCATION:L'Oxymore\, Chemin de Versaille 14\, Cully \, VD\, 1096\, Lavaux-O
 ron\, Suisse
GEO:46.487603;6.727307
X-APPLE-STRUCTURED-LOCATION;VALUE=URI;X-ADDRESS=Chemin de Versaille 14\, Cu
 lly \, VD\, 1096\, Lavaux-Oron\, Suisse;X-APPLE-RADIUS=100;X-TITLE=L'Oxymo
 re:geo:46.487603,6.727307
END:VEVENT
BEGIN:VTIMEZONE
TZID:Europe/Paris
X-LIC-LOCATION:Europe/Paris
BEGIN:DAYLIGHT
DTSTART:20240331T030000
TZOFFSETFROM:+0100
TZOFFSETTO:+0200
TZNAME:CEST
END:DAYLIGHT
END:VTIMEZONE
END:VCALENDAR