BEGIN:VCALENDAR
VERSION:2.0
PRODID:-//wp-events-plugin.com//7.2.3.1//EN
TZID:Europe/Paris
X-WR-TIMEZONE:Europe/Paris
BEGIN:VEVENT
UID:108143@l-agenda.ch
DTSTART;TZID=Europe/Paris:20260617T190000
DTEND;TZID=Europe/Paris:20260617T190000
DTSTAMP:20251013T092909Z
URL:https://www.l-agenda.ch/evenements/cest-dans-votre-tete-mademoiselle-3
 /
SUMMARY:C'est dans votre tête\, Mademoiselle!
DESCRIPTION:Seule en scène de Giliane Bussy sur le sujet de l'endométrios
 e
ATTACH;FMTTYPE=image/jpeg:https://www.l-agenda.ch/wp-content/uploads/2024/
 03/EG-2023-2024_114-e1722427058836.png
CATEGORIES:Documentaire | Documenté | Autofiction,Théâtre
LOCATION:PullOff Théâtres\, Rue de l'Industrie 10\, Lausanne\, VD\, 1005\
 , Lausanne\, Suisse
GEO:46.526319;6.639307
X-APPLE-STRUCTURED-LOCATION;VALUE=URI;X-ADDRESS=Rue de l'Industrie 10\, Lau
 sanne\, VD\, 1005\, Lausanne\, Suisse;X-APPLE-RADIUS=100;X-TITLE=PullOff T
 héâtres:geo:46.526319,6.639307
END:VEVENT
BEGIN:VTIMEZONE
TZID:Europe/Paris
X-LIC-LOCATION:Europe/Paris
BEGIN:DAYLIGHT
DTSTART:20260329T030000
TZOFFSETFROM:+0100
TZOFFSETTO:+0200
TZNAME:CEST
END:DAYLIGHT
END:VTIMEZONE
END:VCALENDAR