BEGIN:VCALENDAR
VERSION:2.0
PRODID:-//wp-events-plugin.com//7.2.3.1//EN
TZID:Europe/Paris
X-WR-TIMEZONE:Europe/Paris
BEGIN:VEVENT
UID:120054@l-agenda.ch
DTSTART;TZID=Europe/Paris:20260508T143000
DTEND;TZID=Europe/Paris:20260508T143000
DTSTAMP:20260202T214745Z
URL:https://www.l-agenda.ch/evenements/ceramic-circus-2/
SUMMARY:Ceramic Circus
DESCRIPTION:Acrobaties et roller\, qui testent et mettent en contraste la f
 ragilité de ce qui nous entoure
ATTACH;FMTTYPE=image/jpeg:https://www.l-agenda.ch/wp-content/uploads/2025/
 09/Ceramic-Circus.webp
CATEGORIES:Cirque,Jeune public
LOCATION:Comédie de Genève\, Esplanade Alice-Bailly 1\, Genève\, GE\, 12
 07\, Genève\, Suisse
GEO:46.197208;6.143741
X-APPLE-STRUCTURED-LOCATION;VALUE=URI;X-ADDRESS=Esplanade Alice-Bailly 1\, 
 Genève\, GE\, 1207\, Genève\, Suisse;X-APPLE-RADIUS=100;X-TITLE=Comédie
  de Genève:geo:46.197208,6.143741
END:VEVENT
BEGIN:VTIMEZONE
TZID:Europe/Paris
X-LIC-LOCATION:Europe/Paris
BEGIN:DAYLIGHT
DTSTART:20260329T030000
TZOFFSETFROM:+0100
TZOFFSETTO:+0200
TZNAME:CEST
END:DAYLIGHT
END:VTIMEZONE
END:VCALENDAR