BEGIN:VCALENDAR
VERSION:2.0
PRODID:-//wp-events-plugin.com//7.2.3.1//EN
TZID:Europe/Paris
X-WR-TIMEZONE:Europe/Paris
BEGIN:VEVENT
UID:116171@l-agenda.ch
DTSTART;TZID=Europe/Paris:20250823T203000
DTEND;TZID=Europe/Paris:20250823T203000
DTSTAMP:20250707T105318Z
URL:https://www.l-agenda.ch/evenements/cem-tem-la-banda-party/
SUMMARY:Cem Tem / La Banda Party
DESCRIPTION:Hip Hop alternatif / Afrobeats
ATTACH;FMTTYPE=image/jpeg:https://www.l-agenda.ch/wp-content/uploads/2025/
 06/Cem-Tem.jpg
CATEGORIES:Musique actuelle,Electro,Rap | Hip-hop
LOCATION:La Dérivée\, Quai de Nogent 6\, Yverdon-les-Bains\, VD\, 1400\, 
 Suisse
GEO:46.786597;6.640375
X-APPLE-STRUCTURED-LOCATION;VALUE=URI;X-ADDRESS=Quai de Nogent 6\, Yverdon-
 les-Bains\, VD\, 1400\, Suisse;X-APPLE-RADIUS=100;X-TITLE=La Dérivée:geo
 :46.786597,6.640375
END:VEVENT
BEGIN:VTIMEZONE
TZID:Europe/Paris
X-LIC-LOCATION:Europe/Paris
BEGIN:DAYLIGHT
DTSTART:20250330T030000
TZOFFSETFROM:+0100
TZOFFSETTO:+0200
TZNAME:CEST
END:DAYLIGHT
END:VTIMEZONE
END:VCALENDAR