BEGIN:VCALENDAR
VERSION:2.0
PRODID:-//wp-events-plugin.com//7.2.3.1//EN
TZID:Europe/Paris
X-WR-TIMEZONE:Europe/Paris
BEGIN:VEVENT
UID:108715@l-agenda.ch
DTSTART;TZID=Europe/Paris:20240918T190000
DTEND;TZID=Europe/Paris:20240918T190000
DTSTAMP:20240823T075906Z
URL:https://www.l-agenda.ch/evenements/celebrons-les-paysages-de-la-rentre
 e-litteraire/
SUMMARY:Célébrons les paysages de la rentrée littéraire!
DESCRIPTION:Dialogue littéraire et musical\, apéritif dinatoire
ATTACH;FMTTYPE=image/jpeg:https://www.l-agenda.ch/wp-content/uploads/2024/
 08/Lire-a-Lausanne.jpg
CATEGORIES:Littérature | Conte | Lecture,Conférence | Rencontre,Festival
LOCATION:Place de la Louve\, Place de la Louve\, Lausanne\, VD\, 1003\, Lau
 sanne\, Suisse
GEO:46.5216;6.63227
X-APPLE-STRUCTURED-LOCATION;VALUE=URI;X-ADDRESS=Place de la Louve\, Lausann
 e\, VD\, 1003\, Lausanne\, Suisse;X-APPLE-RADIUS=100;X-TITLE=Place de la L
 ouve:geo:46.5216,6.63227
END:VEVENT
BEGIN:VTIMEZONE
TZID:Europe/Paris
X-LIC-LOCATION:Europe/Paris
BEGIN:DAYLIGHT
DTSTART:20240331T030000
TZOFFSETFROM:+0100
TZOFFSETTO:+0200
TZNAME:CEST
END:DAYLIGHT
END:VTIMEZONE
END:VCALENDAR