BEGIN:VCALENDAR
VERSION:2.0
PRODID:-//wp-events-plugin.com//7.2.3.1//EN
TZID:Europe/Paris
X-WR-TIMEZONE:Europe/Paris
BEGIN:VEVENT
UID:118994@l-agenda.ch
DTSTART;TZID=Europe/Paris:20260221T203000
DTEND;TZID=Europe/Paris:20260221T203000
DTSTAMP:20251121T130711Z
URL:https://www.l-agenda.ch/evenements/candlelight-queen-vs-les-beatles-2/
SUMMARY:Candlelight: Queen vs. Les Beatles
DESCRIPTION:Arrangements de titres des Beatles et de Queen pour piano
ATTACH;FMTTYPE=image/jpeg:https://www.l-agenda.ch/wp-content/uploads/2021/
 11/Candlelight1.jpg
CATEGORIES:Musique actuelle,Orchestre | Ensemble | Instrument |
 Chambre,Pop | Folk | Chanson
LOCATION:Théâtre les Salons\, Rue J. F. Bartholoni 6\, Genève\, GE\, 120
 4\, Suisse
GEO:46.200165;6.141756
X-APPLE-STRUCTURED-LOCATION;VALUE=URI;X-ADDRESS=Rue J. F. Bartholoni 6\, Ge
 nève\, GE\, 1204\, Suisse;X-APPLE-RADIUS=100;X-TITLE=Théâtre les Salons
 :geo:46.200165,6.141756
END:VEVENT
BEGIN:VTIMEZONE
TZID:Europe/Paris
X-LIC-LOCATION:Europe/Paris
BEGIN:STANDARD
DTSTART:20251026T020000
TZOFFSETFROM:+0200
TZOFFSETTO:+0100
TZNAME:CET
END:STANDARD
END:VTIMEZONE
END:VCALENDAR