BEGIN:VCALENDAR
VERSION:2.0
PRODID:-//wp-events-plugin.com//7.2.3.1//EN
TZID:Europe/Paris
X-WR-TIMEZONE:Europe/Paris
BEGIN:VEVENT
UID:103788@l-agenda.ch
DTSTART;TZID=Europe/Paris:20240322T200000
DTEND;TZID=Europe/Paris:20240322T200000
DTSTAMP:20240114T143103Z
URL:https://www.l-agenda.ch/evenements/brunch-a-la-ferme-vs-u-nyon/
SUMMARY:Brunch à la Ferme vs U-Nyon
DESCRIPTION:Match d'impro 
CATEGORIES:Théâtre,Improvisation | Humour | Stand-up
LOCATION:Le Cazard\, Rue Pré-du-Marché 15\, Lausanne\, VD\, 1004\, Lausan
 ne\, Suisse
GEO:46.524079;6.629583
X-APPLE-STRUCTURED-LOCATION;VALUE=URI;X-ADDRESS=Rue Pré-du-Marché 15\, La
 usanne\, VD\, 1004\, Lausanne\, Suisse;X-APPLE-RADIUS=100;X-TITLE=Le Cazar
 d:geo:46.524079,6.629583
END:VEVENT
BEGIN:VTIMEZONE
TZID:Europe/Paris
X-LIC-LOCATION:Europe/Paris
BEGIN:STANDARD
DTSTART:20231029T020000
TZOFFSETFROM:+0200
TZOFFSETTO:+0100
TZNAME:CET
END:STANDARD
END:VTIMEZONE
END:VCALENDAR