BEGIN:VCALENDAR
VERSION:2.0
PRODID:-//wp-events-plugin.com//7.2.3.1//EN
TZID:Europe/Paris
X-WR-TIMEZONE:Europe/Paris
BEGIN:VEVENT
UID:119431@l-agenda.ch
DTSTART;TZID=Europe/Paris:20260503T170000
DTEND;TZID=Europe/Paris:20260503T170000
DTSTAMP:20251209T180004Z
URL:https://www.l-agenda.ch/evenements/brahms-ein-deutsches-requiem/
SUMMARY:Brahms\, Ein Deutsches Requiem
DESCRIPTION:Par l'Orchestre de Ribaupierre et le Choeur Calliope
ATTACH;FMTTYPE=image/jpeg:https://www.l-agenda.ch/wp-content/uploads/2024/
 03/Orchestre-de-Ribaupierre.jpg
CATEGORIES:Classique,Opéra | Lyrique | Voix,Orchestre | Ensemble |
 Instrument | Chambre
LOCATION:Temple de Morges\, Place de l'Église 2\, Morges\, VD\, 1110\, Mor
 ges\, Suisse
GEO:46.510781;6.499768
X-APPLE-STRUCTURED-LOCATION;VALUE=URI;X-ADDRESS=Place de l'Église 2\, Morg
 es\, VD\, 1110\, Morges\, Suisse;X-APPLE-RADIUS=100;X-TITLE=Temple de Morg
 es:geo:46.510781,6.499768
END:VEVENT
BEGIN:VTIMEZONE
TZID:Europe/Paris
X-LIC-LOCATION:Europe/Paris
BEGIN:DAYLIGHT
DTSTART:20260329T030000
TZOFFSETFROM:+0100
TZOFFSETTO:+0200
TZNAME:CEST
END:DAYLIGHT
END:VTIMEZONE
END:VCALENDAR