BEGIN:VCALENDAR
VERSION:2.0
PRODID:-//wp-events-plugin.com//7.2.3.1//EN
TZID:Europe/Paris
X-WR-TIMEZONE:Europe/Paris
BEGIN:VEVENT
UID:111540@l-agenda.ch
DTSTART;TZID=Europe/Paris:20260224T200000
DTEND;TZID=Europe/Paris:20260224T200000
DTSTAMP:20251001T115237Z
URL:https://www.l-agenda.ch/evenements/blind-test/
SUMMARY:Blind test
DESCRIPTION:Spectacle/quizz interactif\, avec des anecdotes drôles et inst
 ructives
ATTACH;FMTTYPE=image/jpeg:https://www.l-agenda.ch/wp-content/uploads/2024/
 11/LES-ROIS-DU-BLIND-TEST.jpg
CATEGORIES:Comédie musicale | Spectacle musical,Improvisation | Humour |
 Stand-up,Théâtre
LOCATION:Théâtre de Beausobre\, Avenue de Vertou 2\, Morges\, VD\, 1110\,
  Morges\, Suisse
GEO:46.516566;6.499837
X-APPLE-STRUCTURED-LOCATION;VALUE=URI;X-ADDRESS=Avenue de Vertou 2\, Morges
 \, VD\, 1110\, Morges\, Suisse;X-APPLE-RADIUS=100;X-TITLE=Théâtre de Bea
 usobre:geo:46.516566,6.499837
END:VEVENT
BEGIN:VTIMEZONE
TZID:Europe/Paris
X-LIC-LOCATION:Europe/Paris
BEGIN:STANDARD
DTSTART:20251026T020000
TZOFFSETFROM:+0200
TZOFFSETTO:+0100
TZNAME:CET
END:STANDARD
END:VTIMEZONE
END:VCALENDAR