BEGIN:VCALENDAR
VERSION:2.0
PRODID:-//wp-events-plugin.com//7.2.3.1//EN
TZID:Europe/Paris
X-WR-TIMEZONE:Europe/Paris
BEGIN:VEVENT
UID:106892@l-agenda.ch
DTSTART;TZID=Europe/Paris;VALUE=DATE:20240504
DTEND;TZID=Europe/Paris;VALUE=DATE:20240505
DTSTAMP:20240415T151138Z
URL:https://www.l-agenda.ch/evenements/bitume-festival/
SUMMARY:Bitume Festival
DESCRIPTION:Fête des arts de la rue:\n\nThéâtre\, acrobatie\, clown\, é
 chassières\, concerts\, parade\, initiations à la marionnette\, au cirqu
 e\, exposition et visite d’atelier
ATTACH;FMTTYPE=image/jpeg:https://www.l-agenda.ch/wp-content/uploads/2024/
 04/Bitume-Festival.jpg
CATEGORIES:Festival
LOCATION:Divers lieux - Rolle\, Divers\, Rolle\, VD\, 1180\, Nyon\, Suisse
GEO:46.461297;6.339755
X-APPLE-STRUCTURED-LOCATION;VALUE=URI;X-ADDRESS=Divers\, Rolle\, VD\, 1180\
 , Nyon\, Suisse;X-APPLE-RADIUS=100;X-TITLE=Divers lieux - Rolle:geo:46.461
 297,6.339755
END:VEVENT
BEGIN:VTIMEZONE
TZID:Europe/Paris
X-LIC-LOCATION:Europe/Paris
BEGIN:DAYLIGHT
DTSTART:20240331T030000
TZOFFSETFROM:+0100
TZOFFSETTO:+0200
TZNAME:CEST
END:DAYLIGHT
END:VTIMEZONE
END:VCALENDAR