BEGIN:VCALENDAR
VERSION:2.0
PRODID:-//wp-events-plugin.com//7.2.3.1//EN
TZID:Europe/Paris
X-WR-TIMEZONE:Europe/Paris
BEGIN:VEVENT
UID:114156@l-agenda.ch
DTSTART;TZID=Europe/Paris:20250517T220000
DTEND;TZID=Europe/Paris:20250517T220000
DTSTAMP:20250216T211740Z
URL:https://www.l-agenda.ch/evenements/before-it-starts-after-its-finished
 -2025-05-17/
SUMMARY:Before it starts after it's finished
DESCRIPTION:Création dédiée aux moments de changement\, de chute\, un co
 ntact
ATTACH;FMTTYPE=image/jpeg:https://www.l-agenda.ch/wp-content/uploads/2025/
 02/Catol-Texeira.webp
CATEGORIES:Danse,Danse contemporaine | Néo-classique
LOCATION:Théâtre de Vidy\, Avenue E.-H. Jaques-Dalcroze 5\, Lausanne\, VD
 \, 1007\, Lausanne\, Suisse
GEO:46.512781;6.610833
X-APPLE-STRUCTURED-LOCATION;VALUE=URI;X-ADDRESS=Avenue E.-H. Jaques-Dalcroz
 e 5\, Lausanne\, VD\, 1007\, Lausanne\, Suisse;X-APPLE-RADIUS=100;X-TITLE=
 Théâtre de Vidy:geo:46.512781,6.610833
END:VEVENT
BEGIN:VTIMEZONE
TZID:Europe/Paris
X-LIC-LOCATION:Europe/Paris
BEGIN:DAYLIGHT
DTSTART:20250330T030000
TZOFFSETFROM:+0100
TZOFFSETTO:+0200
TZNAME:CEST
END:DAYLIGHT
END:VTIMEZONE
END:VCALENDAR