BEGIN:VCALENDAR
VERSION:2.0
PRODID:-//wp-events-plugin.com//7.2.3.1//EN
TZID:Europe/Paris
X-WR-TIMEZONE:Europe/Paris
BEGIN:VEVENT
UID:70028@l-agenda.ch
DTSTART;TZID=Europe/Paris:20220210T203000
DTEND;TZID=Europe/Paris:20220211T203000
DTSTAMP:20211125T104751Z
URL:https://www.l-agenda.ch/event-recurring/ballet-junior-de-geneve/
SUMMARY:Ballet Junior de Genève
DESCRIPTION:Ballet contemporain
ATTACH;FMTTYPE=image/jpeg:https://www.l-agenda.ch/wp-content/uploads/2021/
 11/ballet-junior.jpg
CATEGORIES:Danse,Danse contemporaine | Néo-classique
LOCATION:Esplanade du lac\, Allée de la Plage 181\, Divonne-les-Bains\, Fr
 ance\, 01220\, France\, France
GEO:46.35535;6.147026
X-APPLE-STRUCTURED-LOCATION;VALUE=URI;X-ADDRESS=Allée de la Plage 181\, Di
 vonne-les-Bains\, France\, 01220\, France\, France;X-APPLE-RADIUS=100;X-TI
 TLE=Esplanade du lac:geo:46.35535,6.147026
END:VEVENT
BEGIN:VTIMEZONE
TZID:Europe/Paris
X-LIC-LOCATION:Europe/Paris
BEGIN:STANDARD
DTSTART:20211031T020000
TZOFFSETFROM:+0200
TZOFFSETTO:+0100
TZNAME:CET
END:STANDARD
END:VTIMEZONE
END:VCALENDAR