BEGIN:VCALENDAR
VERSION:2.0
PRODID:-//wp-events-plugin.com//7.2.3.1//EN
TZID:Europe/Paris
X-WR-TIMEZONE:Europe/Paris
BEGIN:VEVENT
UID:73786@l-agenda.ch
DTSTART;TZID=Europe/Paris:20220325T200000
DTEND;TZID=Europe/Paris:20220327T200000
DTSTAMP:20220121T204818Z
URL:https://www.l-agenda.ch/event-recurring/backstage/
SUMMARY:Backstage
DESCRIPTION:Improvisation jouée et chantée
ATTACH;FMTTYPE=image/jpeg:https://www.l-agenda.ch/wp-content/uploads/2022/
 01/Comedie-Musicale-Improvisee.jpg
CATEGORIES:Comédie musicale | Spectacle musical,Improvisation | Humour |
 Stand-up,Théâtre
LOCATION:CPO\, Chemin de Beau-Rivage 2\, Lausanne\, VD\, 1006\, Lausanne\, 
 Suisse
GEO:46.510964;6.63036
X-APPLE-STRUCTURED-LOCATION;VALUE=URI;X-ADDRESS=Chemin de Beau-Rivage 2\, L
 ausanne\, VD\, 1006\, Lausanne\, Suisse;X-APPLE-RADIUS=100;X-TITLE=CPO:geo
 :46.510964,6.63036
END:VEVENT
BEGIN:VTIMEZONE
TZID:Europe/Paris
X-LIC-LOCATION:Europe/Paris
BEGIN:STANDARD
DTSTART:20211031T020000
TZOFFSETFROM:+0200
TZOFFSETTO:+0100
TZNAME:CET
END:STANDARD
BEGIN:DAYLIGHT
DTSTART:20220327T030000
TZOFFSETFROM:+0100
TZOFFSETTO:+0200
TZNAME:CEST
END:DAYLIGHT
END:VTIMEZONE
END:VCALENDAR