BEGIN:VCALENDAR
VERSION:2.0
PRODID:-//wp-events-plugin.com//7.2.3.1//EN
TZID:Europe/Paris
X-WR-TIMEZONE:Europe/Paris
BEGIN:VEVENT
UID:108587@l-agenda.ch
DTSTART;TZID=Europe/Paris:20251109T170000
DTEND;TZID=Europe/Paris:20251109T170000
DTSTAMP:20251013T100634Z
URL:https://www.l-agenda.ch/evenements/automne-musical-dollon-5/
SUMMARY:Automne Musical d'Ollon - Duo violoncelle et piano
DESCRIPTION:Oeuvres de Debussy\, Fauré et Brahms
ATTACH;FMTTYPE=image/jpeg:https://www.l-agenda.ch/wp-content/uploads/2024/
 08/Week-end-Musical-dOllon.jpg
CATEGORIES:Classique,Orchestre | Ensemble | Instrument | Chambre
LOCATION:Temple d'Ollon\, Chemin de la Cure\, Ollon\, VD\, 1867\, Aigle\, S
 uisse
GEO:46.297119;6.994198
X-APPLE-STRUCTURED-LOCATION;VALUE=URI;X-ADDRESS=Chemin de la Cure\, Ollon\,
  VD\, 1867\, Aigle\, Suisse;X-APPLE-RADIUS=100;X-TITLE=Temple d'Ollon:geo:
 46.297119,6.994198
END:VEVENT
BEGIN:VTIMEZONE
TZID:Europe/Paris
X-LIC-LOCATION:Europe/Paris
BEGIN:STANDARD
DTSTART:20251026T020000
TZOFFSETFROM:+0200
TZOFFSETTO:+0100
TZNAME:CET
END:STANDARD
END:VTIMEZONE
END:VCALENDAR