BEGIN:VCALENDAR
VERSION:2.0
PRODID:-//wp-events-plugin.com//7.2.3.1//EN
TZID:Europe/Paris
X-WR-TIMEZONE:Europe/Paris
BEGIN:VEVENT
UID:117525@l-agenda.ch
DTSTART;TZID=Europe/Paris;VALUE=DATE:20260501
DTEND;TZID=Europe/Paris;VALUE=DATE:20260502
DTSTAMP:20260330T091225Z
URL:https://www.l-agenda.ch/evenements/au-bout-du-fil-2026-05-01/
SUMMARY:Au bout du fil
DESCRIPTION:Décrochez le combiné de la cabine téléphonique installée d
 ans le hall du CPO et découvrez les anecdotes et tranches de vies de pers
 onnalités anonymes du quartier sous-gare
ATTACH;FMTTYPE=image/jpeg:https://www.l-agenda.ch/wp-content/uploads/2025/
 09/Au-bout-du-fil.jpg
CATEGORIES:Littérature | Conte | Lecture,Performance | Expérimental
LOCATION:CPO\, Chemin de Beau-Rivage 2\, Lausanne\, VD\, 1006\, Lausanne\, 
 Suisse
GEO:46.510964;6.63036
X-APPLE-STRUCTURED-LOCATION;VALUE=URI;X-ADDRESS=Chemin de Beau-Rivage 2\, L
 ausanne\, VD\, 1006\, Lausanne\, Suisse;X-APPLE-RADIUS=100;X-TITLE=CPO:geo
 :46.510964,6.63036
END:VEVENT
BEGIN:VTIMEZONE
TZID:Europe/Paris
X-LIC-LOCATION:Europe/Paris
BEGIN:DAYLIGHT
DTSTART:20260329T030000
TZOFFSETFROM:+0100
TZOFFSETTO:+0200
TZNAME:CEST
END:DAYLIGHT
END:VTIMEZONE
END:VCALENDAR