BEGIN:VCALENDAR
VERSION:2.0
PRODID:-//wp-events-plugin.com//7.2.3.1//EN
TZID:Europe/Paris
X-WR-TIMEZONE:Europe/Paris
BEGIN:VEVENT
UID:120628@l-agenda.ch
DTSTART;TZID=Europe/Paris:20260507T160000
DTEND;TZID=Europe/Paris:20260507T210000
DTSTAMP:20260421T132936Z
URL:https://www.l-agenda.ch/evenements/art-en-ville-ville-geneve/
SUMMARY:Art en Ville-Ville Genève
DESCRIPTION:38e édition des vernissages communs
ATTACH;FMTTYPE=image/jpeg:https://www.l-agenda.ch/wp-content/uploads/2026/
 04/AVV.jpg
CATEGORIES:Exposition temporaire,Vernissage
LOCATION:Divers lieux - Genève\, Divers lieux\, Genève\, GE\, 1200\, Gen
 ève\, Suisse
GEO:46.204391;6.143158
X-APPLE-STRUCTURED-LOCATION;VALUE=URI;X-ADDRESS=Divers lieux\, Genève\, GE
 \, 1200\, Genève\, Suisse;X-APPLE-RADIUS=100;X-TITLE=Divers lieux - Genè
 ve:geo:46.204391,6.143158
END:VEVENT
BEGIN:VTIMEZONE
TZID:Europe/Paris
X-LIC-LOCATION:Europe/Paris
BEGIN:DAYLIGHT
DTSTART:20260329T030000
TZOFFSETFROM:+0100
TZOFFSETTO:+0200
TZNAME:CEST
END:DAYLIGHT
END:VTIMEZONE
END:VCALENDAR