BEGIN:VCALENDAR
VERSION:2.0
PRODID:-//wp-events-plugin.com//7.2.3.1//EN
TZID:Europe/Paris
X-WR-TIMEZONE:Europe/Paris
BEGIN:VEVENT
UID:120622@l-agenda.ch
DTSTART;TZID=Europe/Paris;VALUE=DATE:20260613
DTEND;TZID=Europe/Paris;VALUE=DATE:20260720
DTSTAMP:20260421T101135Z
URL:https://www.l-agenda.ch/evenements/aquafresca/
SUMMARY:Aquafresca
DESCRIPTION:Oeuvres de: Philippe Fretz - Daniel Galasso - Laura Thiong-Toye
  - Tina Schwizgebel-Wang
ATTACH;FMTTYPE=image/jpeg:https://www.l-agenda.ch/wp-content/uploads/2026/
 04/Aquafresca.webp
CATEGORIES:Exposition temporaire
LOCATION:Espace Culturel Assens\, Route du Moulin 9\, Assens\, VD\, 1042\, 
 Gros-de-Vaud\, Suisse
GEO:46.614453;6.627144
X-APPLE-STRUCTURED-LOCATION;VALUE=URI;X-ADDRESS=Route du Moulin 9\, Assens\
 , VD\, 1042\, Gros-de-Vaud\, Suisse;X-APPLE-RADIUS=100;X-TITLE=Espace Cult
 urel Assens:geo:46.614453,6.627144
END:VEVENT
BEGIN:VTIMEZONE
TZID:Europe/Paris
X-LIC-LOCATION:Europe/Paris
BEGIN:DAYLIGHT
DTSTART:20260329T030000
TZOFFSETFROM:+0100
TZOFFSETTO:+0200
TZNAME:CEST
END:DAYLIGHT
END:VTIMEZONE
END:VCALENDAR