BEGIN:VCALENDAR
VERSION:2.0
PRODID:-//wp-events-plugin.com//7.2.3.1//EN
TZID:Europe/Paris
X-WR-TIMEZONE:Europe/Paris
BEGIN:VEVENT
UID:106877@l-agenda.ch
DTSTART;TZID=Europe/Paris;VALUE=DATE:20260502
DTEND;TZID=Europe/Paris;VALUE=DATE:20260504
DTSTAMP:20260409T094848Z
URL:https://www.l-agenda.ch/evenements/aperti-2/
SUMMARY:Aperti
DESCRIPTION:Ouverture des ateliers d'artistes de Lausanne!
ATTACH;FMTTYPE=image/jpeg:https://www.l-agenda.ch/wp-content/uploads/2024/
 03/vincent_moreau_atelier_aperti_2024-1-458x344-1.jpg
CATEGORIES:Conférence | Rencontre,Exposition temporaire,Festival,Jeune
 public,Visite | Balade commentée
LOCATION:Divers lieux - Lausanne\, Divers lieux\, Lausanne\, VD\, 1000\, Su
 isse
GEO:46.522564;6.635989
X-APPLE-STRUCTURED-LOCATION;VALUE=URI;X-ADDRESS=Divers lieux\, Lausanne\, V
 D\, 1000\, Suisse;X-APPLE-RADIUS=100;X-TITLE=Divers lieux - Lausanne:geo:4
 6.522564,6.635989
END:VEVENT
BEGIN:VTIMEZONE
TZID:Europe/Paris
X-LIC-LOCATION:Europe/Paris
BEGIN:DAYLIGHT
DTSTART:20260329T030000
TZOFFSETFROM:+0100
TZOFFSETTO:+0200
TZNAME:CEST
END:DAYLIGHT
END:VTIMEZONE
END:VCALENDAR