BEGIN:VCALENDAR
VERSION:2.0
PRODID:-//wp-events-plugin.com//7.2.3.1//EN
TZID:Europe/Paris
X-WR-TIMEZONE:Europe/Paris
BEGIN:VEVENT
UID:108948@l-agenda.ch
DTSTART;TZID=Europe/Paris:20241010T200000
DTEND;TZID=Europe/Paris:20241010T200000
DTSTAMP:20240829T064051Z
URL:https://www.l-agenda.ch/evenements/apepipopup/
SUMMARY:Apepipopup
DESCRIPTION:Interviews et considérations de vie d'après une ancienne phot
 o de classe
ATTACH;FMTTYPE=image/jpeg:https://www.l-agenda.ch/wp-content/uploads/2024/
 08/Apepipopup.jpg
CATEGORIES:Théâtre,Documentaire | Documenté | Autofiction
LOCATION:Casino Théâtre de Rolle\, Rue du Port 15\, Rolle\, VD\, 1180 \, 
 Nyon\, Suisse
GEO:46.455212;6.336826
X-APPLE-STRUCTURED-LOCATION;VALUE=URI;X-ADDRESS=Rue du Port 15\, Rolle\, VD
 \, 1180 \, Nyon\, Suisse;X-APPLE-RADIUS=100;X-TITLE=Casino Théâtre de Ro
 lle:geo:46.455212,6.336826
END:VEVENT
BEGIN:VTIMEZONE
TZID:Europe/Paris
X-LIC-LOCATION:Europe/Paris
BEGIN:DAYLIGHT
DTSTART:20240331T030000
TZOFFSETFROM:+0100
TZOFFSETTO:+0200
TZNAME:CEST
END:DAYLIGHT
END:VTIMEZONE
END:VCALENDAR