BEGIN:VCALENDAR
VERSION:2.0
PRODID:-//wp-events-plugin.com//7.2.3.1//EN
TZID:Europe/Paris
X-WR-TIMEZONE:Europe/Paris
BEGIN:VEVENT
UID:119790@l-agenda.ch
DTSTART;TZID=Europe/Paris;VALUE=DATE:20260131
DTEND;TZID=Europe/Paris;VALUE=DATE:20260307
DTSTAMP:20260126T132649Z
URL:https://www.l-agenda.ch/evenements/anti-nymphes/
SUMMARY:Anti-nymphes
DESCRIPTION:Relectures féministes des mythes gréco-romains\, formes multi
 ples d’actualisation de l’ancienne figure de la nymphe
ATTACH;FMTTYPE=image/jpeg:https://www.l-agenda.ch/wp-content/uploads/2026/
 01/Anti-nymphes.png
CATEGORIES:Exposition temporaire,Conférence | Rencontre,Performance |
 Expérimental,Projection | Film
LOCATION:L'Arcade\, Rue de Chantepoulet 1\, Genève\, GE\, 1201\, Genève\,
  Suisse
X-APPLE-STRUCTURED-LOCATION;VALUE=URI;X-ADDRESS=Rue de Chantepoulet 1\, Gen
 ève\, GE\, 1201\, Genève\, Suisse;X-APPLE-RADIUS=100;X-TITLE=L'Arcade:ge
 o:0,0
END:VEVENT
BEGIN:VTIMEZONE
TZID:Europe/Paris
X-LIC-LOCATION:Europe/Paris
BEGIN:STANDARD
DTSTART:20251026T020000
TZOFFSETFROM:+0200
TZOFFSETTO:+0100
TZNAME:CET
END:STANDARD
END:VTIMEZONE
END:VCALENDAR