BEGIN:VCALENDAR
VERSION:2.0
PRODID:-//wp-events-plugin.com//7.2.3.1//EN
TZID:Europe/Paris
X-WR-TIMEZONE:Europe/Paris
BEGIN:VEVENT
UID:114472@l-agenda.ch
DTSTART;TZID=Europe/Paris;VALUE=DATE:20250308
DTEND;TZID=Europe/Paris;VALUE=DATE:20250602
DTSTAMP:20250224T155844Z
URL:https://www.l-agenda.ch/evenements/ann-telnaes-liza-donnelly-chronique
 -dune-amerique-au-feminin/
SUMMARY:Ann Telnaes & Liza Donnelly - Chronique d'une Amérique au féminin
DESCRIPTION:Chronique des États-Unis de ces dernières années
ATTACH;FMTTYPE=image/jpeg:https://www.l-agenda.ch/wp-content/uploads/2025/
 02/Affiche_DonnellyTelnaes.jpg
CATEGORIES:Exposition temporaire
LOCATION:Maison du dessin de presse\, Rue Louis de Savoie 39\, Morges\, VD\
 , 1110\, Morges\, Suisse
GEO:46.508932;6.499171
X-APPLE-STRUCTURED-LOCATION;VALUE=URI;X-ADDRESS=Rue Louis de Savoie 39\, Mo
 rges\, VD\, 1110\, Morges\, Suisse;X-APPLE-RADIUS=100;X-TITLE=Maison du de
 ssin de presse:geo:46.508932,6.499171
END:VEVENT
BEGIN:VTIMEZONE
TZID:Europe/Paris
X-LIC-LOCATION:Europe/Paris
BEGIN:STANDARD
DTSTART:20241027T020000
TZOFFSETFROM:+0200
TZOFFSETTO:+0100
TZNAME:CET
END:STANDARD
BEGIN:DAYLIGHT
DTSTART:20250330T030000
TZOFFSETFROM:+0100
TZOFFSETTO:+0200
TZNAME:CEST
END:DAYLIGHT
END:VTIMEZONE
END:VCALENDAR