BEGIN:VCALENDAR
VERSION:2.0
PRODID:-//wp-events-plugin.com//7.2.3.1//EN
TZID:Europe/Paris
X-WR-TIMEZONE:Europe/Paris
BEGIN:VEVENT
UID:82304@l-agenda.ch
DTSTART;TZID=Europe/Paris:20220924T203000
DTEND;TZID=Europe/Paris:20220925T203000
DTSTAMP:20220807T085809Z
URL:https://www.l-agenda.ch/event-recurring/andres-jimenez-trio/
SUMMARY:Andres Jimenez Trio
DESCRIPTION:Jazz tradition bop et hard-bop
ATTACH;FMTTYPE=image/jpeg:https://www.l-agenda.ch/wp-content/uploads/2022/
 08/Andres-jimenez.png
CATEGORIES:Jazz | Swing | Blues,Musique actuelle
LOCATION:AMR/Sud des Alpes\, Rue des Alpes 10\, Genève\, GE\, 1210\, Genè
 ve\, Suisse
GEO:46.209772;6.145837
X-APPLE-STRUCTURED-LOCATION;VALUE=URI;X-ADDRESS=Rue des Alpes 10\, Genève\
 , GE\, 1210\, Genève\, Suisse;X-APPLE-RADIUS=100;X-TITLE=AMR/Sud des Alpe
 s:geo:46.209772,6.145837
END:VEVENT
BEGIN:VTIMEZONE
TZID:Europe/Paris
X-LIC-LOCATION:Europe/Paris
BEGIN:DAYLIGHT
DTSTART:20220327T030000
TZOFFSETFROM:+0100
TZOFFSETTO:+0200
TZNAME:CEST
END:DAYLIGHT
END:VTIMEZONE
END:VCALENDAR