BEGIN:VCALENDAR
VERSION:2.0
PRODID:-//wp-events-plugin.com//7.2.3.1//EN
TZID:Europe/Paris
X-WR-TIMEZONE:Europe/Paris
BEGIN:VEVENT
UID:78150@l-agenda.ch
DTSTART;TZID=Europe/Paris:20220506T203000
DTEND;TZID=Europe/Paris:20220507T203000
DTSTAMP:20220329T205659Z
URL:https://www.l-agenda.ch/event-recurring/amine-radi-lexpert-humoriste/
SUMMARY:Amine Radi - L'expert humoriste
DESCRIPTION:One man show
ATTACH;FMTTYPE=image/jpeg:https://www.l-agenda.ch/wp-content/uploads/2022/
 03/Amine-Radi.jpg
CATEGORIES:Improvisation | Humour | Stand-up,Théâtre
LOCATION:Théâtre le Caveau\, Avenue de Sainte-Clotilde 9\, Genève\, GE\,
  1205\, Genève\, Suisse
GEO:46.200414;6.134627
X-APPLE-STRUCTURED-LOCATION;VALUE=URI;X-ADDRESS=Avenue de Sainte-Clotilde 9
 \, Genève\, GE\, 1205\, Genève\, Suisse;X-APPLE-RADIUS=100;X-TITLE=Thé
 âtre le Caveau:geo:46.200414,6.134627
END:VEVENT
BEGIN:VTIMEZONE
TZID:Europe/Paris
X-LIC-LOCATION:Europe/Paris
BEGIN:DAYLIGHT
DTSTART:20220327T030000
TZOFFSETFROM:+0100
TZOFFSETTO:+0200
TZNAME:CEST
END:DAYLIGHT
END:VTIMEZONE
END:VCALENDAR