BEGIN:VCALENDAR
VERSION:2.0
PRODID:-//wp-events-plugin.com//7.2.3.1//EN
TZID:Europe/Paris
X-WR-TIMEZONE:Europe/Paris
BEGIN:VEVENT
UID:120619@l-agenda.ch
DTSTART;TZID=Europe/Paris;VALUE=DATE:20260423
DTEND;TZID=Europe/Paris;VALUE=DATE:20260425
DTSTAMP:20260421T095101Z
URL:https://www.l-agenda.ch/evenements/ames-sensibles-sextasier/
SUMMARY:Âmes sensibles: s'extasier
DESCRIPTION:Exposition commune de deux artistes veveysanes\, Herica Parasol
 e (peinture\, photographie et mix média) et Laura-Marie Berner (fiction e
 t poésie contemporaine).
ATTACH;FMTTYPE=image/jpeg:https://www.l-agenda.ch/wp-content/uploads/2026/
 04/Amessssensibles.png
CATEGORIES:Exposition temporaire,17-2026,Conférence |
 Rencontre,Vernissage
LOCATION:Pop-up store 31\, Rue du Simplon 31\, Vevey\, VD\, 1800\, Riviera\
 , Suisse
X-APPLE-STRUCTURED-LOCATION;VALUE=URI;X-ADDRESS=Rue du Simplon 31\, Vevey\,
  VD\, 1800\, Riviera\, Suisse;X-APPLE-RADIUS=100;X-TITLE=Pop-up store 31:g
 eo:0,0
END:VEVENT
BEGIN:VTIMEZONE
TZID:Europe/Paris
X-LIC-LOCATION:Europe/Paris
BEGIN:DAYLIGHT
DTSTART:20260329T030000
TZOFFSETFROM:+0100
TZOFFSETTO:+0200
TZNAME:CEST
END:DAYLIGHT
END:VTIMEZONE
END:VCALENDAR