BEGIN:VCALENDAR
VERSION:2.0
PRODID:-//wp-events-plugin.com//7.2.3.1//EN
TZID:Europe/Paris
X-WR-TIMEZONE:Europe/Paris
BEGIN:VEVENT
UID:119095@l-agenda.ch
DTSTART;TZID=Europe/Paris:20260509T200000
DTEND;TZID=Europe/Paris:20260509T200000
DTSTAMP:20251124T113531Z
URL:https://www.l-agenda.ch/evenements/amelie-la-comedie-musicale-2026-05-
 09/
SUMMARY:Amélie - La comédie musicale
DESCRIPTION:Adaptation du film "Le Fabuleux Destin d’Amélie Poulain" de 
 Jean-Pierre Jeunet et Guillaume Laurant
ATTACH;FMTTYPE=image/jpeg:https://www.l-agenda.ch/wp-content/uploads/2025/
 11/Amelie.jpg
CATEGORIES:Comédie musicale | Spectacle musical,Théâtre
LOCATION:Opéra de Lausanne\, Avenue du Théâtre 12\, Lausanne\, VD\, 1002
 \, Lausanne\, Suisse
GEO:46.517843;6.636775
X-APPLE-STRUCTURED-LOCATION;VALUE=URI;X-ADDRESS=Avenue du Théâtre 12\, La
 usanne\, VD\, 1002\, Lausanne\, Suisse;X-APPLE-RADIUS=100;X-TITLE=Opéra d
 e Lausanne:geo:46.517843,6.636775
END:VEVENT
BEGIN:VTIMEZONE
TZID:Europe/Paris
X-LIC-LOCATION:Europe/Paris
BEGIN:DAYLIGHT
DTSTART:20260329T030000
TZOFFSETFROM:+0100
TZOFFSETTO:+0200
TZNAME:CEST
END:DAYLIGHT
END:VTIMEZONE
END:VCALENDAR