BEGIN:VCALENDAR
VERSION:2.0
PRODID:-//wp-events-plugin.com//7.2.3.1//EN
TZID:Europe/Paris
X-WR-TIMEZONE:Europe/Paris
BEGIN:VEVENT
UID:120558@l-agenda.ch
DTSTART;TZID=Europe/Paris:20261128T110000
DTEND;TZID=Europe/Paris:20261128T110000
DTSTAMP:20260330T094810Z
URL:https://www.l-agenda.ch/evenements/alice-au-pays-des-merveilles/
SUMMARY:Alice au Pays des Merveilles
DESCRIPTION:Création mondiale d'une nouvelle version d'Alice au Pays des M
 erveilles. Dès 4 ans
ATTACH;FMTTYPE=image/jpeg:https://www.l-agenda.ch/wp-content/uploads/2026/
 03/Alice-au-Pays-des-Merveilles.jpg
CATEGORIES:Orchestre | Ensemble | Instrument | Chambre,Classique,Comédie
 musicale | Spectacle musical,Jeune public,Littérature | Conte |
 Lecture,Musique actuelle
LOCATION:Église Saint-François\, Place Saint-François\, Lausanne\, VD\, 
 1003\, Lausanne\, Suisse
GEO:46.519889;6.633594
X-APPLE-STRUCTURED-LOCATION;VALUE=URI;X-ADDRESS=Place Saint-François\, Lau
 sanne\, VD\, 1003\, Lausanne\, Suisse;X-APPLE-RADIUS=100;X-TITLE=Église S
 aint-François:geo:46.519889,6.633594
END:VEVENT
BEGIN:VTIMEZONE
TZID:Europe/Paris
X-LIC-LOCATION:Europe/Paris
BEGIN:STANDARD
DTSTART:20261025T020000
TZOFFSETFROM:+0200
TZOFFSETTO:+0100
TZNAME:CET
END:STANDARD
END:VTIMEZONE
END:VCALENDAR