BEGIN:VCALENDAR
VERSION:2.0
PRODID:-//wp-events-plugin.com//7.2.3.1//EN
TZID:Europe/Paris
X-WR-TIMEZONE:Europe/Paris
BEGIN:VEVENT
UID:102696@l-agenda.ch
DTSTART;TZID=Europe/Paris:20240315T190000
DTEND;TZID=Europe/Paris:20240315T190000
DTSTAMP:20240122T125935Z
URL:https://www.l-agenda.ch/evenements/alice-amazing-circus-show/
SUMMARY:Alice Amazing Circus Show
DESCRIPTION:Acrobatie\, chorégraphie et technologie
ATTACH;FMTTYPE=image/jpeg:https://www.l-agenda.ch/wp-content/uploads/2023/
 11/poster-preview-2-e1705928360197.jpg
CATEGORIES:Cirque
LOCATION:Théâtre de Beaulieu\, Avenue des Bergières 10\, Lausanne\, VD\,
  1004\, Lausanne\, Suisse
GEO:46.529435;6.623158
X-APPLE-STRUCTURED-LOCATION;VALUE=URI;X-ADDRESS=Avenue des Bergières 10\, 
 Lausanne\, VD\, 1004\, Lausanne\, Suisse;X-APPLE-RADIUS=100;X-TITLE=Théâ
 tre de Beaulieu:geo:46.529435,6.623158
END:VEVENT
BEGIN:VTIMEZONE
TZID:Europe/Paris
X-LIC-LOCATION:Europe/Paris
BEGIN:STANDARD
DTSTART:20231029T020000
TZOFFSETFROM:+0200
TZOFFSETTO:+0100
TZNAME:CET
END:STANDARD
END:VTIMEZONE
END:VCALENDAR