BEGIN:VCALENDAR
VERSION:2.0
PRODID:-//wp-events-plugin.com//7.2.3.1//EN
TZID:Europe/Paris
X-WR-TIMEZONE:Europe/Paris
BEGIN:VEVENT
UID:107636@l-agenda.ch
DTSTART;TZID=Europe/Paris:20250709T203000
DTEND;TZID=Europe/Paris:20250709T203000
DTSTAMP:20250626T172136Z
URL:https://www.l-agenda.ch/evenements/alexandra-dovgan-piano-2/
SUMMARY:Alexandra Dovgan\, piano
DESCRIPTION:Beethoven\, Chopin\, Franck\, Prokofiev
ATTACH;FMTTYPE=image/jpeg:https://www.l-agenda.ch/wp-content/uploads/2024/
 05/Alexandra-Dovgan.jpg
CATEGORIES:Classique,Festival,Orchestre | Ensemble | Instrument | Chambre
LOCATION:Ferme de Saint-Maurice\, Chemin de la Dame 67\, Collonge-Bellerive
 \, GE\, 1222\, Genève\, Suisse
GEO:46.252228;6.215617
X-APPLE-STRUCTURED-LOCATION;VALUE=URI;X-ADDRESS=Chemin de la Dame 67\, Coll
 onge-Bellerive\, GE\, 1222\, Genève\, Suisse;X-APPLE-RADIUS=100;X-TITLE=F
 erme de Saint-Maurice:geo:46.252228,6.215617
END:VEVENT
BEGIN:VTIMEZONE
TZID:Europe/Paris
X-LIC-LOCATION:Europe/Paris
BEGIN:DAYLIGHT
DTSTART:20250330T030000
TZOFFSETFROM:+0100
TZOFFSETTO:+0200
TZNAME:CEST
END:DAYLIGHT
END:VTIMEZONE
END:VCALENDAR