BEGIN:VCALENDAR
VERSION:2.0
PRODID:-//wp-events-plugin.com//7.2.3.1//EN
TZID:Europe/Paris
X-WR-TIMEZONE:Europe/Paris
BEGIN:VEVENT
UID:103730@l-agenda.ch
DTSTART;TZID=Europe/Paris:20240310T200000
DTEND;TZID=Europe/Paris:20240310T200000
DTSTAMP:20240110T163057Z
URL:https://www.l-agenda.ch/evenements/alela-diane/
SUMMARY:Alela Diane
DESCRIPTION:Folk (USA)
ATTACH;FMTTYPE=image/jpeg:https://www.l-agenda.ch/wp-content/uploads/2024/
 01/c931f5875a6984dd58f4a519de89ff34fd570e88.800x0_q95.jpg
CATEGORIES:Musique actuelle,Soul | R'n'B
LOCATION:Les Docks\, Avenue Sévelin 34\, Lausanne\, VD\, 1004\, Lausanne\,
  Suisse
GEO:46.522407;6.619252
X-APPLE-STRUCTURED-LOCATION;VALUE=URI;X-ADDRESS=Avenue Sévelin 34\, Lausan
 ne\, VD\, 1004\, Lausanne\, Suisse;X-APPLE-RADIUS=100;X-TITLE=Les Docks:ge
 o:46.522407,6.619252
END:VEVENT
BEGIN:VTIMEZONE
TZID:Europe/Paris
X-LIC-LOCATION:Europe/Paris
BEGIN:STANDARD
DTSTART:20231029T020000
TZOFFSETFROM:+0200
TZOFFSETTO:+0100
TZNAME:CET
END:STANDARD
END:VTIMEZONE
END:VCALENDAR