BEGIN:VCALENDAR
VERSION:2.0
PRODID:-//wp-events-plugin.com//7.2.3.1//EN
TZID:Europe/Paris
X-WR-TIMEZONE:Europe/Paris
BEGIN:VEVENT
UID:84398@l-agenda.ch
DTSTART;TZID=Europe/Paris:20221208T203000
DTEND;TZID=Europe/Paris:20221210T203000
DTSTAMP:20220919T195247Z
URL:https://www.l-agenda.ch/event-recurring/akim-omiri/
SUMMARY:Akim Omiri
DESCRIPTION:One man show
ATTACH;FMTTYPE=image/jpeg:https://www.l-agenda.ch/wp-content/uploads/2022/
 09/Akim-Omiri.jpg
CATEGORIES:Improvisation | Humour | Stand-up,Théâtre
LOCATION:Caustic Comedy Club\, Avenue Cardinal Mermillod 6\, Carouge\, GE\,
  1227\, Genève\, Suisse
GEO:46.186899;6.141979
X-APPLE-STRUCTURED-LOCATION;VALUE=URI;X-ADDRESS=Avenue Cardinal Mermillod 6
 \, Carouge\, GE\, 1227\, Genève\, Suisse;X-APPLE-RADIUS=100;X-TITLE=Caust
 ic Comedy Club:geo:46.186899,6.141979
END:VEVENT
BEGIN:VTIMEZONE
TZID:Europe/Paris
X-LIC-LOCATION:Europe/Paris
BEGIN:STANDARD
DTSTART:20221030T020000
TZOFFSETFROM:+0200
TZOFFSETTO:+0100
TZNAME:CET
END:STANDARD
END:VTIMEZONE
END:VCALENDAR