BEGIN:VCALENDAR
VERSION:2.0
PRODID:-//wp-events-plugin.com//7.2.3.1//EN
TZID:Europe/Paris
X-WR-TIMEZONE:Europe/Paris
BEGIN:VEVENT
UID:107632@l-agenda.ch
DTSTART;TZID=Europe/Paris:20240702T150000
DTEND;TZID=Europe/Paris:20240702T150000
DTSTAMP:20240524T095010Z
URL:https://www.l-agenda.ch/evenements/adele-charvet-et-le-consort/
SUMMARY:Adèle Charvet et Le Consort
DESCRIPTION:Ensemble de chambre et mezzo-soprano
ATTACH;FMTTYPE=image/jpeg:https://www.l-agenda.ch/wp-content/uploads/2024/
 05/Adele-charvet.png
CATEGORIES:Classique,Opéra | Lyrique | Voix,Orchestre | Ensemble |
 Instrument | Chambre
LOCATION:La Grange au Lac\, Avenue des Mélèzes\, Évian-les-Bains\, Franc
 e\, 74500\, France\, France
GEO:46.395182;6.591327
X-APPLE-STRUCTURED-LOCATION;VALUE=URI;X-ADDRESS=Avenue des Mélèzes\, Évi
 an-les-Bains\, France\, 74500\, France\, France;X-APPLE-RADIUS=100;X-TITLE
 =La Grange au Lac:geo:46.395182,6.591327
END:VEVENT
BEGIN:VTIMEZONE
TZID:Europe/Paris
X-LIC-LOCATION:Europe/Paris
BEGIN:DAYLIGHT
DTSTART:20240331T030000
TZOFFSETFROM:+0100
TZOFFSETTO:+0200
TZNAME:CEST
END:DAYLIGHT
END:VTIMEZONE
END:VCALENDAR