BEGIN:VCALENDAR
VERSION:2.0
PRODID:-//wp-events-plugin.com//7.2.3.1//EN
TZID:Europe/Paris
X-WR-TIMEZONE:Europe/Paris
BEGIN:VEVENT
UID:115382@l-agenda.ch
DTSTART;TZID=Europe/Paris:20250601T180000
DTEND;TZID=Europe/Paris:20250601T180000
DTSTAMP:20250519T105449Z
URL:https://www.l-agenda.ch/evenements/a-star-is-borgne-2025-06-01/
SUMMARY:A Star is borgne
DESCRIPTION:Comédie de Richard Gauteron
ATTACH;FMTTYPE=image/jpeg:https://www.l-agenda.ch/wp-content/uploads/2025/
 05/A-Star-is-borgne.jpg
CATEGORIES:Comédie,Théâtre
LOCATION:La Julienne\, Route de Saint-Julien 116\, Plan-les-Ouates\, GE\, 1
 228\, Genève\, Suisse
GEO:46.169752;6.119822
X-APPLE-STRUCTURED-LOCATION;VALUE=URI;X-ADDRESS=Route de Saint-Julien 116\,
  Plan-les-Ouates\, GE\, 1228\, Genève\, Suisse;X-APPLE-RADIUS=100;X-TITLE
 =La Julienne:geo:46.169752,6.119822
END:VEVENT
BEGIN:VTIMEZONE
TZID:Europe/Paris
X-LIC-LOCATION:Europe/Paris
BEGIN:DAYLIGHT
DTSTART:20250330T030000
TZOFFSETFROM:+0100
TZOFFSETTO:+0200
TZNAME:CEST
END:DAYLIGHT
END:VTIMEZONE
END:VCALENDAR