BEGIN:VCALENDAR
VERSION:2.0
PRODID:-//wp-events-plugin.com//7.2.3.1//EN
TZID:Europe/Paris
X-WR-TIMEZONE:Europe/Paris
BEGIN:VEVENT
UID:119984@l-agenda.ch
DTSTART;TZID=Europe/Paris:20260501T200000
DTEND;TZID=Europe/Paris:20260501T200000
DTSTAMP:20260121T205948Z
URL:https://www.l-agenda.ch/evenements/46-rue-de-berne-2026-04-21-2026-04-
 24-2026-04-28-2026-05-01/
SUMMARY:46 Rue de Berne
DESCRIPTION:D’après les lettres de la peintre\, écrivaine et catin rév
 olutionnaire Grisélidis Réal à l'écrivain Jean-Luc Hennig
ATTACH;FMTTYPE=image/jpeg:https://www.l-agenda.ch/wp-content/uploads/2026/
 01/Rue-de-Berne.jpg
CATEGORIES:Documentaire | Documenté | Autofiction,Théâtre
LOCATION:Les Amis musiquethéâtre\, Place du Temple 8\, Carouge\, GE\, 122
 7\, Genève\, Suisse
GEO:46.185199;6.139927
X-APPLE-STRUCTURED-LOCATION;VALUE=URI;X-ADDRESS=Place du Temple 8\, Carouge
 \, GE\, 1227\, Genève\, Suisse;X-APPLE-RADIUS=100;X-TITLE=Les Amis musiqu
 ethéâtre:geo:46.185199,6.139927
END:VEVENT
BEGIN:VTIMEZONE
TZID:Europe/Paris
X-LIC-LOCATION:Europe/Paris
BEGIN:DAYLIGHT
DTSTART:20260329T030000
TZOFFSETFROM:+0100
TZOFFSETTO:+0200
TZNAME:CEST
END:DAYLIGHT
END:VTIMEZONE
END:VCALENDAR