BEGIN:VCALENDAR
VERSION:2.0
PRODID:-//wp-events-plugin.com//7.2.3.1//EN
TZID:Europe/Paris
X-WR-TIMEZONE:Europe/Paris
BEGIN:VEVENT
UID:109191@l-agenda.ch
DTSTART;TZID=Europe/Paris:20240926T193000
DTEND;TZID=Europe/Paris:20240926T193000
DTSTAMP:20240909T163620Z
URL:https://www.l-agenda.ch/evenements/30-30-yoanna-sallese-yanisse-kebbab
 /
SUMMARY:30/30 - Yoanna Sallese / Yanisse Kebbab
DESCRIPTION:Deux humoristes\, format de 30 minutes chacun-e
ATTACH;FMTTYPE=image/jpeg:https://www.l-agenda.ch/wp-content/uploads/2024/
 09/yoanna-sallese-yanisse-kebbab.jpg
CATEGORIES:Improvisation | Humour | Stand-up,Théâtre
LOCATION:Comedy Club 13\, Rue Cité-Devant 10\, Lausanne\, VD\, 1005\, Laus
 anne\, Suisse
GEO:46.523419;6.635378
X-APPLE-STRUCTURED-LOCATION;VALUE=URI;X-ADDRESS=Rue Cité-Devant 10\, Lausa
 nne\, VD\, 1005\, Lausanne\, Suisse;X-APPLE-RADIUS=100;X-TITLE=Comedy Club
  13:geo:46.523419,6.635378
END:VEVENT
BEGIN:VTIMEZONE
TZID:Europe/Paris
X-LIC-LOCATION:Europe/Paris
BEGIN:DAYLIGHT
DTSTART:20240331T030000
TZOFFSETFROM:+0100
TZOFFSETTO:+0200
TZNAME:CEST
END:DAYLIGHT
END:VTIMEZONE
END:VCALENDAR