BEGIN:VCALENDAR
VERSION:2.0
PRODID:-//wp-events-plugin.com//7.2.3.1//EN
TZID:Europe/Paris
X-WR-TIMEZONE:Europe/Paris
BEGIN:VEVENT
UID:120630@l-agenda.ch
DTSTART;TZID=Europe/Paris:20260502T200000
DTEND;TZID=Europe/Paris:20260502T200000
DTSTAMP:20260421T134656Z
URL:https://www.l-agenda.ch/evenements/25-ans-de-lepicentre-globe-trotteur
 %c2%b7se%c2%b7s/
SUMMARY:25 ans de l'Épicentre - Globe-trotteur·se·s
DESCRIPTION:David Walters (électro\, folk et influences afro-caribéenne) 
 / Tiwayo (soul) / Siân Pottok et Natascha Rogers (dialogue entre deux ré
 pertoires)
ATTACH;FMTTYPE=image/jpeg:https://www.l-agenda.ch/wp-content/uploads/2022/
 01/Tiwayo.jpg
CATEGORIES:Musique actuelle,Pop | Folk | Chanson,Soul | R'n'B
LOCATION:L'Épicentre\, Chemin de Mancy 61\, Collonge-Bellerive\, GE\, 1245
 \, Suisse
GEO:46.249209;6.203478
X-APPLE-STRUCTURED-LOCATION;VALUE=URI;X-ADDRESS=Chemin de Mancy 61\, Collon
 ge-Bellerive\, GE\, 1245\, Suisse;X-APPLE-RADIUS=100;X-TITLE=L'Épicentre:
 geo:46.249209,6.203478
END:VEVENT
BEGIN:VTIMEZONE
TZID:Europe/Paris
X-LIC-LOCATION:Europe/Paris
BEGIN:DAYLIGHT
DTSTART:20260329T030000
TZOFFSETFROM:+0100
TZOFFSETTO:+0200
TZNAME:CEST
END:DAYLIGHT
END:VTIMEZONE
END:VCALENDAR